BEGIN:VCALENDAR
VERSION:2.0
PRODID:-//eventon.com NONSGML v1.0//EN
CALSCALE:GREGORIAN
METHOD:PUBLISH
BEGIN:VEVENT
UID:69e7c9c4c356f
DTSTAMP:20260421T190228Z
DTSTART:20260321T160000Z
DTEND:20260321T173000Z
LOCATION:Fairgrounds Recreation Center 210 Fairground Road Xenia\,  OH 45385
SUMMARY:Easter Egg Scramble
DESCRIPTION:This isn’t just your ordinary Easter egg hunt\,  get ready to
  scramble your way into Easter with a scaled down version of our extreme eg
 g hunt for kids ages 5-9. The Fairgrounds Recreation Center will be packed 
 with hundreds of Easter eggs just waiting to be discovered.  Every egg wil
 l[..]\nhttps://ohparent.com/events/easter-egg-scramble/
URL:https://ohparent.com/events/easter-egg-scramble/
END:VEVENT
END:VCALENDAR