BEGIN:VCALENDAR
VERSION:2.0
PRODID:-//eventon.com NONSGML v1.0//EN
CALSCALE:GREGORIAN
METHOD:PUBLISH
BEGIN:VEVENT
UID:69e7a54c4d26b
DTSTAMP:20260421T162652Z
DTSTART:20260328T180000Z
DTEND:20260329T035900Z
LOCATION:Kentucky Railway Museum 136 S. Main Street\,  New Haven\,  KY 40051
SUMMARY:Easter Eggspress
DESCRIPTION:All aboard for the Easter Train! Meet the Easter Bunny aboard t
 he Easter Train. Train Excursion is 1.5 hours in duration. \nhttps://ohpar
 ent.com/events/easter-eggspress/
URL:https://ohparent.com/events/easter-eggspress/
END:VEVENT
END:VCALENDAR