BEGIN:VCALENDAR
VERSION:2.0
PRODID:-//eventon.com NONSGML v1.0//EN
CALSCALE:GREGORIAN
METHOD:PUBLISH
BEGIN:VEVENT
UID:69e4c96962eb4
DTSTAMP:20260419T122409Z
DTSTART:20260404T150000Z
DTEND:20260404T180000Z
LOCATION:Green Township Senior Center 3620 Epley Ln\,  Cincinnati\,  OH 45247\,  USA
SUMMARY:Easter Eggstravaganza
DESCRIPTION:This year we are making our Easter celebration an indoor event 
 with more activities for the kiddos. Our free event will take place at the 
 Green Township Senior Center\,  3620 Epley Road. There will be ongoing acti
 vities including games\,  candy\,  face painting\,  photos with the bunny\,
   cotton candy and more.[..]\nhttps://ohparent.com/events/easter-eggstravag
 anza-2/
URL:https://ohparent.com/events/easter-eggstravaganza-2/
END:VEVENT
END:VCALENDAR