BEGIN:VCALENDAR
VERSION:2.0
PRODID:-//eventon.com NONSGML v1.0//EN
CALSCALE:GREGORIAN
METHOD:PUBLISH
BEGIN:VEVENT
UID:69e781149ce2a
DTSTAMP:20260421T135220Z
DTSTART:20260328T160000Z
DTEND:20260328T180000Z
LOCATION:Makino Park 6100 Kopfler Court\,  Mason OH
SUMMARY:Accessible Egg Hunt
DESCRIPTION:The event welcomes children ages 17 and under with developmenta
 l disabilities\,  as well as their siblings. Visitors are encouraged to arr
 ive at noon to take photos with the bunny\,  make a craft\,  and explore th
 e accessible playground. There will be three separate Egg Hunts taking plac
 e on the adaptive baseball[..]\nhttps://ohparent.com/events/accessible-egg-
 hunt/
URL:https://ohparent.com/events/accessible-egg-hunt/
END:VEVENT
END:VCALENDAR