BEGIN:VCALENDAR
VERSION:2.0
PRODID:-//eventon.com NONSGML v1.0//EN
CALSCALE:GREGORIAN
METHOD:PUBLISH
BEGIN:VEVENT
UID:69e505d45c196
DTSTAMP:20260419T164156Z
DTSTART:20260330T224000Z
DTEND:20260331T035900Z
LOCATION:Great American Ball Park 100 Joe Nuxhall Way
SUMMARY:Cincinnati Reds vs. Pittsburgh Pirates
DESCRIPTION:Monday\,  March 31 &#8211; 6:40 PM Tuesday\,  March 31 &#8211; 
 6:40 PM Budweiser 3-2-1 Tuesdays At all Tuesday Reds home games\,  fans can
  purchase $3 Buds and Bud Lights (12 oz.)\,  $2 hot dogs and $1 ice cream c
 ups. Limit two items per person per transaction\,  while supplies last. Sen
 ior[..]\nhttps://ohparent.com/events/cincinnati-reds-vs-pittsburgh-pirates/
URL:https://ohparent.com/events/cincinnati-reds-vs-pittsburgh-pirates/
END:VEVENT
END:VCALENDAR