BEGIN:VCALENDAR
VERSION:2.0
PRODID:-//eventon.com NONSGML v1.0//EN
CALSCALE:GREGORIAN
METHOD:PUBLISH
BEGIN:VEVENT
UID:69e8bee4a1692
DTSTAMP:20260422T122820Z
DTSTART:20260516T150000Z
DTEND:20260517T010000Z
LOCATION:Hidden Valley Orchards 5474 North State Route 48
SUMMARY:Hidden Valley Orchards Half-Toberfest
DESCRIPTION:Who says Oktoberfest only happens in the fall? This May\,  Hidd
 en Valley Orchards is bringing Bavarian tradition to the farm with our inau
 gural Half-toberfest. Join us for a celebration of German food\,  festive d
 rinks\,  live music\,  and playful competitions throughout the orchard on M
 ay 16-17\,  2026. Grab your friends\,  pull[..]\nhttps://ohparent.com/event
 s/hidden-valley-orchards-half-toberfest/
URL:https://ohparent.com/events/hidden-valley-orchards-half-toberfest/
END:VEVENT
END:VCALENDAR