BEGIN:VCALENDAR
VERSION:2.0
PRODID:-//eventon.com NONSGML v1.0//EN
CALSCALE:GREGORIAN
METHOD:PUBLISH
BEGIN:VEVENT
UID:69e89b394a662
DTSTAMP:20260422T095609Z
DTSTART:20260423T143000Z
DTEND:20260423T203000Z
LOCATION:
SUMMARY:River History Museum Open
DESCRIPTION:Step back in time on the Ohio River! The Chilo Lock 34 River Mu
 seum occupies the former operations building at the Ohio River Lock and Dam
  #34. Although the U.S. Army Corps of Engineers decommissioned the facility
  in 1964\,  Clermont County Park District renovated the building in 2005 as
  an[..]\nhttps://ohparent.com/events/river-history-museum-open-2/var/ri-4.l
 -L1
URL:https://ohparent.com/events/river-history-museum-open-2/var/ri-4.l-L1
END:VEVENT
END:VCALENDAR