BEGIN:VCALENDAR
VERSION:2.0
PRODID:-//eventon.com NONSGML v1.0//EN
CALSCALE:GREGORIAN
METHOD:PUBLISH
BEGIN:VEVENT
UID:69e5ec4c1c20c
DTSTAMP:20260420T090516Z
DTSTART:20260816T100000Z
DTEND:20260816T180000Z
LOCATION:
SUMMARY:BURLINGTON ANTIQUE SHOW
DESCRIPTION:Only ten minutes away from downtown Cincinnati\,  Burlington An
 tique Show\,  Cincinnati’s great outdoors antique and family friendly eve
 nt\,  is now celebrating 45 years. We are happy to offer a social shopping\
 ,  treasure hunting\,  family friendly event for our tri-state communities 
 . It’s a great way to kick-off springtime fun. Featuring[..]\nhttps://ohp
 arent.com/events/burlington-antique-show/var/ri-4.l-L1
URL:https://ohparent.com/events/burlington-antique-show/var/ri-4.l-L1
END:VEVENT
END:VCALENDAR