BEGIN:VCALENDAR
VERSION:2.0
PRODID:-//eventon.com NONSGML v1.0//EN
CALSCALE:GREGORIAN
METHOD:PUBLISH
BEGIN:VEVENT
UID:69ebcddbcad6f
DTSTAMP:20260424T200859Z
DTSTART:20260507T140000Z
DTEND:20260507T153000Z
LOCATION:Cincinnati Nature Center 4949 Tealtown Road
SUMMARY:Babywearing Hike Series
DESCRIPTION:Registration Requirements: Preregistration required. Intended A
 udience: This program is designed for adults with infants under 1 year in a
 ge. Toddlers may attend if worn in a carrier for the duration of the hike. 
 With a focus on community\,  we&#8217;re creating a space for caregivers wi
 th babies in a similar stage[..]\nhttps://ohparent.com/events/babywearing-h
 ike-series/
URL:https://ohparent.com/events/babywearing-hike-series/
END:VEVENT
END:VCALENDAR