BEGIN:VCALENDAR
VERSION:2.0
PRODID:-//eventon.com NONSGML v1.0//EN
CALSCALE:GREGORIAN
METHOD:PUBLISH
BEGIN:VEVENT
UID:69ebcc9532842
DTSTAMP:20260424T200333Z
DTSTART:20260425
DTEND:20260426
LOCATION:Victoria Theatre 138 N. Main Street
SUMMARY:STOMP
DESCRIPTION:STOMPÂ is explosive\,  inventive\,  provocative\,  witty\,  and
  utterly unique â€“ an unforgettable experience for audiences of all ages. 
 The international percussion sensation has garnered armfuls of awards and r
 ave reviews and has appeared on numerous national television shows. The eig
 ht-member troupe uses everything but conventional percussion instruments â€
 “ matchboxes\,  wooden poles\, [..]\nhttps://ohparent.com/events/stomp/
URL:https://ohparent.com/events/stomp/
END:VEVENT
END:VCALENDAR